BEGIN:VCALENDAR
VERSION:2.0
PRODID:-//Lobonomada - ECPv5.6.0//NONSGML v1.0//EN
CALSCALE:GREGORIAN
METHOD:PUBLISH
X-WR-CALNAME:Lobonomada
X-ORIGINAL-URL:https://lobonomada.es
X-WR-CALDESC:Eventos para Lobonomada
BEGIN:VTIMEZONE
TZID:Europe/Madrid
BEGIN:DAYLIGHT
TZOFFSETFROM:+0100
TZOFFSETTO:+0200
TZNAME:CEST
DTSTART:20260329T010000
END:DAYLIGHT
BEGIN:STANDARD
TZOFFSETFROM:+0200
TZOFFSETTO:+0100
TZNAME:CET
DTSTART:20261025T010000
END:STANDARD
END:VTIMEZONE
BEGIN:VEVENT
DTSTART;TZID=Europe/Madrid:20260805T090000
DTEND;TZID=Europe/Madrid:20260807T160000
DTSTAMP:20260421T181124
CREATED:20210428T162908Z
LAST-MODIFIED:20250907T220751Z
UID:8975-1785920400-1786118400@lobonomada.es
SUMMARY:Trekking P. N. de Redes - Soto de Caso - Brañagallones - Bezanes
DESCRIPTION:Este atractivo trekking en la zona Centro-Este del parque que nos adentra a través de la Sierra de Braña Piñueli\, en un paisaje alpino y característico de la Cordillera Asturiana\, el avistamiento de aves rapaces y de Rebecos es frecuente y las marcas del Lobo están muy presentes. \n\nItinerario día 1:\nDistancia: 19\,5 Km.                     \nDesnivel: + 964 m.                     \nDesnivel: – 464.0 m.\nItinerario día 2: \nDistancia: 12\,o Km.\nDesnivel: + 695.0 m.\nDesnivel: – 695.0 m.\nItinerario día 3:        \nDistancia: 13\,5 Km.\nDesnivel: + 563.0 m.\nDesnivel: – 1.128 m.                        \n\nNuestros trekking\, son el resultado de años de montaña por toda la cordillera cantábrica\, desde el ámbito profesional y personal con la experiencia adquirida en otros sistemas montañosos.\nNuestra filosofía pone de relieve\, que disfrutar de las montañas es el objetivo. El esfuerzo físico que requiere es ineludible\, por lo tanto lo que aplicamos para relajar ese esfuerzo\, es dejar de un lado ese reto deportivo de exigencia cronométrica\, observar con detenimiento lo que nos rodea\, disfrutar del paisaje sonoro y disfrutarlo con aquellos que nos acompañan.\nPermítanos ser un poco reservados en cuanto a la información sobre un exceso de datos\, más si tenemos en cuenta que nuestros trekking en su conjunto\, no forman parte de ninguna red o tour comercializados. ¡DÉJATE SEDUCIR POR LA NATURALEZA DE ASTURIAS!Es para vosotros\, quienes decidís acompañarnos\, para quienes está dirigido\, que descubraís tantos rincones mágicos\, dejando un poco de aventura… algo para la imaginación… dejaros seducir… Siguiendo la huella de Lobo Nómada. Los caminos\, las sendas que transcurren por estos espacios naturales y que con frecuencia nos adentran en bosques que nos aportan sombra y frescor en verano\, junto a la magia que siempre transmiten los Hayedos y en Otoño los colores que nos muestran su más expresiva belleza\, nos hacen vivir la naturaleza desde el corazón\, estos caminos nos van trasladando de Mayada en Mayada mostrándonos las panorámicas a los hondos valles y altas cumbres calizas de gran belleza.
URL:https://lobonomada.es/experiencia/trekking-belerda-branagallones-bezanes/2026-08-05/
LOCATION:Parque Natural de Redes – Bezanes\, Bezanes\, Caso\, Asturias\, 33996\, España
CATEGORIES:Verano Trekking
ATTACH;FMTTYPE=image/jpeg:https://lobonomada.es/wp-content/uploads/2020/07/7.jpg
GEO:43.15;-5.283
X-APPLE-STRUCTURED-LOCATION;VALUE=URI;X-ADDRESS=Parque Natural de Redes – Bezanes Bezanes Caso Asturias 33996 España;X-APPLE-RADIUS=500;X-TITLE=Bezanes:geo:-5.283,43.15
END:VEVENT
BEGIN:VEVENT
DTSTART;TZID=Europe/Madrid:20260817T103000
DTEND;TZID=Europe/Madrid:20260820T183000
DTSTAMP:20260421T181124
CREATED:20210428T144822Z
LAST-MODIFIED:20251124T084014Z
UID:2114-1786962600-1787250600@lobonomada.es
SUMMARY:Travesías Nómadas Juveniles
DESCRIPTION:Desde el contacto con la tierra… para despertar en nuestros jóvenes su instinto primario de integración con el medio natural. El equipo humano de Lobo Nómada ha venido trabajando con gente joven desde hace más de 10 años y profundizando en la cobertura\, mediante el contacto con la Naturaleza\, de posibles necesidades educativas y terapéuticas de menores\, adolescentes y jóvenes. Esta travesía esta diseñada para jóvenes a partir de 14 años. \n  \nTravesías Nómadas Juveniles ha creado su propio marco teórico educativo y pedagógico\, apostando por el poder real de los espacios naturales de Asturias para facilitar el crecimiento y desarrollo personal de nuestros jóvenes. Experiencias significativas de gran impacto que proporcionan un aprendizaje integrativo\, holístico y humanístico.\nQueremos potenciar su proceso de desarrollo físico\, emocional e intelectual de una manera equilibrada y en armonía con la naturaleza.\nAdemás esta aventura también la hacemos posible para otros grupos de edades. Adultos\, equipos de trabajo de empresas y personas con necesidades especiales.
URL:https://lobonomada.es/experiencia/travesias-nomadas-juveniles/
LOCATION:Paisaje Protegido De Las Cuencas Mineras\, La Fombermeja - Laviana\, Asturias\, 33987\, España
CATEGORIES:Campamentos Verano
ATTACH;FMTTYPE=image/jpeg:https://lobonomada.es/wp-content/uploads/2019/08/13995487_1195275710539122_4594331485064904211_o-e1638701463292.jpg
GEO:43.202825;-5.530635
END:VEVENT
BEGIN:VEVENT
DTSTART;TZID=Europe/Madrid:20260824T093000
DTEND;TZID=Europe/Madrid:20260827T160000
DTSTAMP:20260421T181124
CREATED:20210428T164956Z
LAST-MODIFIED:20250915T152607Z
UID:2174-1787563800-1787846400@lobonomada.es
SUMMARY:Trekking P. N. de Redes - Soto De Agües - Brañagallones - Tarna
DESCRIPTION:Está atractiva zona de montaña que forman Sobrescobio y Caso en el Parque de Redes\, una reserva de la Biosfera creada con el objetivo de poner en valor y conservar los recursos naturales\, paisajísticos y culturales de la zona. invita a la contemplación de manera continuada\, debido a su orografía con un entrar y salir de sus bosques\, a zonas de verdes pastos y la continua presencia de las montañas que nos rodean y valles boscosos. Sus pueblos de montaña y su gastronomía.\nPunto de encuentro parking de Soto de Agües concejo de Sobrescobio a las 9:00h mochilas preparadas para el inicio del trekking.\n \n\nItinerario día 1:\nDistancia: 15\,0 Km.\nDesnivel: + 802.0 m.\nDesnivel: – 585.0 m.\nItinerario día 2:                       \nDistancia: 22\,5 Km.                     \nDesnivel: + 1.114 m.                     \nDesnivel: – 510.0 m.\nItinerario día 3:                                     \nDistancia: 12\,o Km.\nDesnivel: + 695.0 m.\nDesnivel: – 695.0 m.\nItinerario día 4:\nDistancia: 16\,5 Km.\nDesnivel: + 410.0 m.\nDesnivel: – 842.0 m.\n\nNuestros trekking\, son el resultado de años de montaña por tod m.a la cordillera cantábrica\, desde el ámbito profesional y personal y experiencia adquirida en otros sistemas montañosos.\nNuestra filosofía pone de relieve\, que disfrutar de las montañas es el objetivo\, el esfuerzo físico que requiere es ineludible\, por lo tanto lo que aplicamos para relajar ese esfuerzo\, es dejar de un lado ese reto deportivo de exigencia cronométrica\, observar con detenimiento lo que nos rodea\, disfrutar del paisaje sonoro y disfrutarlo con aquellos que nos acompañan.\nY es para vosotros\, quienes decidís acompañarnos\, para quienes está dirigido\, el que descubraís tantos rincones mágicos\, dejando un poco de aventura… algo para la imaginación… dejaros seducir…\nSiguiendo la huella de lobo nómada\nLos caminos\, las sendas que transcurren por estos espacios naturales y que con frecuencia nos adentran en bosques que nos aportan sombra y frescor en verano y la magia que siempre transmiten los Hayedos\, en Otoño los colores nos muestran su más expresiva belleza. Nos hace vivir la naturaleza desde el corazón\, estos caminos nos van trasladando de Mayada en Mayada y las panorámicas a los hondos valles y altas cumbres calizas son de gran belleza.\n¡DÉJATE SEDUCIR POR LA NATURALEZA DE ASTURIAS!\nCada estación del año la naturaleza nos brinda espectáculos que estimulan todos nuestros sentidos: la belleza de unos paisajes que nos conectan con el pasado de este territorio\, los olores y sabores del bosque\, los sonidos del viento en las cumbres y en las hojas\, el canto de las aves y de los insectos\, la textura de las rocas\, la temperatura del agua en los arroyos de montaña… Durante un paseo por los entornos privilegiados de Asturias\, nuestros guías os introducirán en la magia de la naturaleza\, animándoos a observar y a vivirla en primera persona\, desvelando sus secretos…
URL:https://lobonomada.es/experiencia/trekking-parque-natural-de-redes-sobrescobio-caso-2021-08-16/
LOCATION:Parque Natural De Redes – Soto De Agües\, Valle del Río Alba\, Soto De Agües\, Asturias\, 33993\, España
CATEGORIES:Verano Trekking
ATTACH;FMTTYPE=image/jpeg:https://lobonomada.es/wp-content/uploads/2022/08/IMG_20220823_171352_1-scaled.jpg
GEO:43.202426;-5.467429
X-APPLE-STRUCTURED-LOCATION;VALUE=URI;X-ADDRESS=Parque Natural De Redes – Soto De Agües Valle del Río Alba Soto De Agües Asturias 33993 España;X-APPLE-RADIUS=500;X-TITLE=Valle del Río Alba:geo:-5.467429,43.202426
END:VEVENT
BEGIN:VEVENT
DTSTART;TZID=Europe/Madrid:20260905T100000
DTEND;TZID=Europe/Madrid:20260905T170000
DTSTAMP:20260421T181124
CREATED:20200912T070026Z
LAST-MODIFIED:20250915T152137Z
UID:8371-1788602400-1788627600@lobonomada.es
SUMMARY:Lagos de Covadonga - Montaña Inclusiva - Experiencias Ecoturismo Etnográfico
DESCRIPTION:En estas rutas de senderismo etnográfico Lobo Nómada te lleva a disfrutar de la riqueza cultural de los Parques Naturales en la Cordillera Cantábrica. Sus pueblos\, Brañas\, tradiciones y costumbres. \nLos senderos y caminos que los unen\, por los que siglos a tras transitaron viajeros\, peregrinos\, y pobladores primogénitos como los Romanos y los Sefardies.  \nCon traslados a varios puntos de este territorio y agradables recorridos a pie\, con nuestros guías descubrirás este increíble espacio natural de bosques\, ríos\, montañas y fauna autóctona. \n  \n\n“CAMINANDO PICOS DE EUROPA: LOS SECRETOS DE LOS LAGOS DE COVADONGA”  \n La montaña de Covadonga es el corazón del Parque Natural de los Picos de Europa. En su parte alta se encuentran los famosos Lagos de Covadonga que\, en fácil paseo tendremos oportunidad de contemplarlos desde distintas perspectivas descubriendo sus rincones más bellos\, entre pastores\, pastos y ganado libre… armonía\, color\, olores y momentos de montaña… \nAdemás de darnos un paseo por los lagos\, podremos escaparnos hasta la famosa majada de Belbín\, rincón con encanto en el que aún se elabora el riquísimo queso de Gamonedo de Puerto. Con suerte\, podremos hablar con los pastores y degustar este queso artesanal y auténtico\, disfrutar de la música de los cencerros del ganado y comer a la sombra de sus fresnos… \nY si nos queda tiempo: \n\n\nHacer la visita guiada al Centro de Interpretación del Parque Nacional de Picos de Europa Pedro Pidal\, en el entorno de los lagos; concretamente en Buferrera\, para descubrir todos sus detalles reunidos en una exposición a tamaño natural de los distintos ambientes de montaña. \n\n\nVisitar el Real Sitio de Covadonga\, con su cueva de la Santina y su grandiosa Basílica.
URL:https://lobonomada.es/experiencia/experiencias-eco-turismo-etnografico-2021-08-22-2023-09-10/
LOCATION:Parque Nacional Picos de Europa – Covadonga\, Covadonga\, Onis\, Asturias\, 33589\, España
CATEGORIES:Montaña Inclusiva
ATTACH;FMTTYPE=image/jpeg:https://lobonomada.es/wp-content/uploads/2020/07/PANDEBANO-6.jpg
GEO:43.3121;-5.0588
X-APPLE-STRUCTURED-LOCATION;VALUE=URI;X-ADDRESS=Parque Nacional Picos de Europa – Covadonga Covadonga Onis Asturias 33589 España;X-APPLE-RADIUS=500;X-TITLE=Covadonga:geo:-5.0588,43.3121
END:VEVENT
BEGIN:VEVENT
DTSTART;TZID=Europe/Madrid:20261107T093000
DTEND;TZID=Europe/Madrid:20261108T180000
DTSTAMP:20260421T181124
CREATED:20200912T070026Z
LAST-MODIFIED:20250907T230210Z
UID:1574-1794043800-1794160800@lobonomada.es
SUMMARY:Curso de Supervivencia en Montaña - Refuguio de Brañagallones
DESCRIPTION:Te esperamos\, prepara tú equipo habitual de montaña\, tú dispositivo para tomar notas y/o lapiz y cuaderno de campo y ven al Parque Natural de Redes. Refugio de Brañagallones.  \n  \n«Circo Glaciar  Valdebezón – Brañagallones» \nEs el entorno de alta montaña\, en el que nos desenvolveremos en esta experiencia. \nAquí la psicológia de la supervivencia es vital. \nUtilizando los elementos naturales y de fortuna que podemos encontrar en un entorno de montaña y desde el conocimiento y la experiencia\, podemos obtener los recursos necesarios.  \nFactores de la supervivencia – psicológia – alimentación – ayuno – primeros auxilios
URL:https://lobonomada.es/experiencia/curso-de-supervivencia-en-montana-refuguio-de-branagallones/
LOCATION:Parque Natural de Redes – Bezanes\, Bezanes\, Caso\, Asturias\, 33996\, España
CATEGORIES:Supervivencia
ATTACH;FMTTYPE=image/jpeg:https://lobonomada.es/wp-content/uploads/2021/09/IMG_20201024_132204-scaled-e1663163936383.jpg
GEO:43.15;-5.283
X-APPLE-STRUCTURED-LOCATION;VALUE=URI;X-ADDRESS=Parque Natural de Redes – Bezanes Bezanes Caso Asturias 33996 España;X-APPLE-RADIUS=500;X-TITLE=Bezanes:geo:-5.283,43.15
END:VEVENT
BEGIN:VEVENT
DTSTART;TZID=Europe/Madrid:20261114T093000
DTEND;TZID=Europe/Madrid:20261115T164500
DTSTAMP:20260421T181124
CREATED:20210428T154513Z
LAST-MODIFIED:20251126T100914Z
UID:2133-1794648600-1794761100@lobonomada.es
SUMMARY:El Celo Del Rebeco Cantábrico
DESCRIPTION:Las aproximaciones se inician a pie desde el Refugio de Brañagallones. \nEn el corazón del Parque Natural y Reserva de la Biosfera de Redes\, en la cabecera del río Monasterio\, visitaremos un valle de origen glaciar muy bien conservado. Se trata del entorno de Valdevezón y Brañagallones. En este paisaje\, además de observar las formas glaciares y de imaginar lo que pudo haber sido\, veremos las huellas del antiguo paisanaje y apreciamos los cambios recientes impulsados por los nuevos usos del valle. \n El pasado\, la fauna y concreta mente el Rebeco sera nuestro objetivo de observación. \nY los escenarios los encontraremos en La Sierra De Pries en su vertiente Norte y en las estribaciones al Este de La Peña ‘L Vientu principalmente. \nLos rebecos cantábricos entran en celo a finales de octubre o principios de noviembre. Los machos que suelen ser solitarios durante el resto del año buscan a los rebaños de hembras y crías y van formando harenes que defienden frente a los machos rivales.
URL:https://lobonomada.es/experiencia/el-celo-del-rebeco-cantabrico-2/
LOCATION:Parque Natural de Redes – Bezanes\, Bezanes\, Caso\, Asturias\, 33996\, España
CATEGORIES:Experiencias Interpretación Ambiental
ATTACH;FMTTYPE=image/jpeg:https://lobonomada.es/wp-content/uploads/2021/10/DSCN5216-scaled-e1634149233547.jpg
GEO:43.15;-5.283
X-APPLE-STRUCTURED-LOCATION;VALUE=URI;X-ADDRESS=Parque Natural de Redes – Bezanes Bezanes Caso Asturias 33996 España;X-APPLE-RADIUS=500;X-TITLE=Bezanes:geo:-5.283,43.15
END:VEVENT
BEGIN:VEVENT
DTSTART;TZID=Europe/Madrid:20261114T093000
DTEND;TZID=Europe/Madrid:20261115T180000
DTSTAMP:20260421T181124
CREATED:20210428T162908Z
LAST-MODIFIED:20250907T230830Z
UID:8312-1794648600-1794765600@lobonomada.es
SUMMARY:Trekking - Cordillera Cantábrica - Tarna - Soto de Caso
DESCRIPTION:Una experiencia slow mountain. \nEn una de las zonas mas elevadas del parque\, en un paisaje alpino y característico de la  Cordillera Asturiana\, recorriendo y descubriendo el hábitat de una fauna tan variada como esquiva y muy curiosa ante nuestra presencia\, como el Rebeco el rey de las cumbres y con las marcas del Lobo muy presentes. \n\nItinerario día 1: \nDistancia: 10\,5 Km.\nDesnivel: + 549.0 m.\nDesnivel: – 564.0 m.\nItinerario día 2:\nDistancia: 16\,5 Km.\nDesnivel: + 690.0 m.\nDesnivel: – 930.0 m.\n\nNuestros trekking\, son el resultado de años de montaña por toda la cordillera cantábrica\, desde el ámbito profesional y personal y la experiencia adquirida en otros sistemas montañosos.\nNuestra filosofía pone de relieve\, que disfrutar de las Montañas es el objetivo . El esfuerzo físico que requiere es ineludible\, por lo tanto lo que aplicamos para relajar ese esfuerzo\, es dejar de un lado ese reto deportivo de exigencia cronométrica\, observar con detenimiento lo que nos rodea\, disfrutar del paisaje sonoro y disfrutarlo con aquellos que nos acompañan.\nPermítanos ser un poco reservados en cuanto a la información sobre un exceso de datos\, más si tenemos en cuenta que nuestros trekking en su conjunto\, no forman parte de ninguna red o tour comercializados.\nEs para vosotros\, quienes decidís acompañarnos\, para quienes está dirigido\, que descubraís tantos rincones mágicos\, dejando un poco de aventura… algo para la imaginación… déjate seducir… Siguiendo la Huella de Lobo Nómada. Los caminos\, las sendas que transcurren por estos espacios naturales y que con frecuencia nos adentran en la magia que siempre transmiten los Hayedos y en Otoño los colores que nos muestran su más expresiva belleza\, y el manto blanco de la nieve\, nos hacen vivir la naturaleza desde el corazón\, estos caminos nos van trasladando de Mayada en Mayada mostrándonos las panorámicas a los hondos valles y altas cumbres calizas de gran belleza.\n¡DÉJATE SEDUCIR POR LA NATURALEZA DE ASTURIAS!
URL:https://lobonomada.es/experiencia/trekking-invernal-la-infiesta-branagallones-bezanes-2022-01-07-2023-11-11/
LOCATION:Parque Natural de Redes – Soto de Caso\, Soto\, Asturias\, 33996
CATEGORIES:Viajes escolares
ATTACH;FMTTYPE=image/jpeg:https://lobonomada.es/wp-content/uploads/2021/11/IMG_20201018_162456-scaled.jpg
END:VEVENT
END:VCALENDAR