BEGIN:VCALENDAR
VERSION:2.0
PRODID:-//Lobonomada - ECPv5.6.0//NONSGML v1.0//EN
CALSCALE:GREGORIAN
METHOD:PUBLISH
X-WR-CALNAME:Lobonomada
X-ORIGINAL-URL:https://lobonomada.es
X-WR-CALDESC:Eventos para Lobonomada
BEGIN:VTIMEZONE
TZID:Europe/Madrid
BEGIN:DAYLIGHT
TZOFFSETFROM:+0100
TZOFFSETTO:+0200
TZNAME:CEST
DTSTART:20250330T010000
END:DAYLIGHT
BEGIN:STANDARD
TZOFFSETFROM:+0200
TZOFFSETTO:+0100
TZNAME:CET
DTSTART:20251026T010000
END:STANDARD
END:VTIMEZONE
BEGIN:VEVENT
DTSTART;VALUE=DATE:20250208
DTEND;VALUE=DATE:20250210
DTSTAMP:20260420T162135
CREATED:20210505T152656Z
LAST-MODIFIED:20250117T160634Z
UID:2200-1738972800-1739145599@lobonomada.es
SUMMARY:Cordillera Cantábrica Senderismo Invernal Nocturno
DESCRIPTION:La actividad comienza con un pequeño curso de formación en el que se explican detalladamente las características del material que vamos ha utilizar\, las técnicas de progresión y una introducción a las medidas de seguridad en toda actividad de montaña invernal. \nEn estos entornos privilegiados de Asturias y León\, nuestros guías os introducirán en la magia de la naturaleza y del paisaje nocturno invernal\, con luna llena\, animándonos a observar y a vivirla en primera persona\, desvelando sus secretos… El hábitat de la fauna\, ya bien entrado el invierno es el lobo el protagonista que comienza el apareamiento… \nQue en esta zona de montaña durante el pasado otoño hemos podido seguir sus marcas y huellas. \nY disfrutado de la experiencia de un avistamiento. \nLa fauna\, siempre nos puede sorprender en cualquier momento. \nDisfrutaremos de la calidez del refugio\, repondremos fuerzas con un buen menú. Y un descanso reparador en este auténtico refugio de montaña.
URL:https://lobonomada.es/experiencia/senderismo-invernal-raquetas-de-nieve-2021-11-27/
LOCATION:Albergue de Montaña\, calle la bolera\, Campo De Caso\, Asturias\, 33990\, España
ATTACH;FMTTYPE=image/jpeg:https://lobonomada.es/wp-content/uploads/2023/02/IMG-20230216-WA0000-e1677007421704.jpg
GEO:431056;52038
X-APPLE-STRUCTURED-LOCATION;VALUE=URI;X-ADDRESS=Albergue de Montaña calle la bolera Campo De Caso Asturias 33990 España;X-APPLE-RADIUS=500;X-TITLE=calle la bolera:geo:52038,431056
END:VEVENT
END:VCALENDAR