BEGIN:VCALENDAR
VERSION:2.0
PRODID:-//Lobonomada - ECPv5.6.0//NONSGML v1.0//EN
CALSCALE:GREGORIAN
METHOD:PUBLISH
X-WR-CALNAME:Lobonomada
X-ORIGINAL-URL:https://lobonomada.es
X-WR-CALDESC:Eventos para Lobonomada
BEGIN:VTIMEZONE
TZID:Europe/Madrid
BEGIN:DAYLIGHT
TZOFFSETFROM:+0100
TZOFFSETTO:+0200
TZNAME:CEST
DTSTART:20260329T010000
END:DAYLIGHT
BEGIN:STANDARD
TZOFFSETFROM:+0200
TZOFFSETTO:+0100
TZNAME:CET
DTSTART:20261025T010000
END:STANDARD
END:VTIMEZONE
BEGIN:VEVENT
DTSTART;TZID=Europe/Madrid:20260703T100000
DTEND;TZID=Europe/Madrid:20260726T113000
DTSTAMP:20260420T120755
CREATED:20250115T121519Z
LAST-MODIFIED:20260419T095828Z
UID:2167-1783072800-1785065400@lobonomada.es
SUMMARY:Campamentos De Montaña Naturalista
DESCRIPTION:¡ un campamento diferente ! descubre y comparte con nosotr@s los secretos del medio natural en la cordillera cantábrica. si te gusta la naturaleza\, ¡¡este es tu campamento!! \nCalendario: 1 turno mes de julio 2026. \nDuración 7 días (Pondremos las fechas en los próximos días) \nPlazas limitadas 9.  \n  \nMAS INFORMACIÓN  \nAl WhatsApp: 692 141 496 \nE-mail: lobonomada@gmail.com \nRESERVAS:  \nAl teléfono: 692 141 496 \nPor E-mail: lobonomada@gmail.com \nY al WhatsApp: 692 141 496 \nEl precio de 490€  \n  \nLa modalidad de senderismo como actividad física estará muy presente durante todo el campamento\, con pequeños recorridos de aproximación para descubrir el hábitat que nos rodea\, en bosques o arroyos de montaña. Y recorridos con una mayor exigencia física como actividad de reto\, compañerismo código ético del montañero\, del naturalista. \nIdentificamos las distintas especies arbóreas\, de flora y fauna.\nAprenderemos a interpretar los mapas y la brújula\, buenos hábitos y técnicas de seguridad en montaña. Juegos en la naturaleza y haremos nuestro censo de mariposas de montaña.\nPor la noche identificamos estrellas y constelaciones y por la mañana veremos huellas y rastros de esa fauna que se mantiene oculta y que intentaremos descubrir.\nHaremos una gestión de nuestros residuos y consumo responsable.\nDisfrutaremos de veladas nocturnas al aire libre\, leyendas\, experiencias vividas en la montaña.\n\n\nOBJETIVOS GENERALES DE LOS CAMPAMENTOS \nPoner en contacto a los jóvenes con sus iguales en el entorno de naturaleza.\nDesarrollar habilidades sociales y competencias específicas\, relacionadas con el mundo natural que\, una vez asumidas\, puedan aplicar a cualquier faceta de sus vidas.\nDesarrollar habilidades y competencias personales para una progresión en montaña segura y responsable con el medio natural.\nSensibilizar a los participantes en relación al disfrute y la protección del medio.\nFomentar la cultura montañera – naturalista. \nCONTENIDOS: \nConocimiento práctico y teórico del entorno natural.\nDesarrollo de habilidades sociales y toma de decisiones en consenso y colaboración con sus compañeros/as\, durante las prácticas y vivencias en la naturaleza.\nDesarrollo de habilidades de progresión segura y autónoma en montaña (orientación\, alimentación\, hidratación\, equipación\, etc.).\n¡Aprendizaje! y práctica de educación en valores: Respeto\, Convivencia\, Responsabilidad\, Participación\, Colaboración\, Cooperación\, Escucha Activa\, Generosidad\, Asertividad y Austeridad.
URL:https://lobonomada.es/experiencia/campamentos-de-montana-naturalistas/
LOCATION:Albergue de Montaña\, calle la bolera\, Campo De Caso\, Asturias\, 33990\, España
CATEGORIES:Campamentos Verano
ATTACH;FMTTYPE=image/jpeg:https://lobonomada.es/wp-content/uploads/2023/10/1692426662776-scaled.jpg
GEO:431056;52038
X-APPLE-STRUCTURED-LOCATION;VALUE=URI;X-ADDRESS=Albergue de Montaña calle la bolera Campo De Caso Asturias 33990 España;X-APPLE-RADIUS=500;X-TITLE=calle la bolera:geo:52038,431056
END:VEVENT
END:VCALENDAR